BEGIN:VCALENDAR
VERSION:2.0
PRODID:icalendar-ruby
CALSCALE:GREGORIAN
BEGIN:VEVENT
DTSTAMP:20260421T162345Z
UID:625f333d-6cbb-456f-972b-9ddd5e520d3c
DTSTART;VALUE=DATE:20200123
DESCRIPTION:Property ID# 469191\, Locatoin: Harcourts\, 1 Third Avenue\, Ta
 uranga\, Time: 1:00PM
SUMMARY:Auction for 
END:VEVENT
END:VCALENDAR
