BEGIN:VCALENDAR
VERSION:2.0
PRODID:icalendar-ruby
CALSCALE:GREGORIAN
BEGIN:VEVENT
DTSTAMP:20260421T163910Z
UID:2327662e-ccb6-4b2e-8846-24bcf871c925
DTSTART;VALUE=DATE:20200604
DESCRIPTION:Property ID# 476903\, Locatoin: Harcourts\, 1 Third Avenue\, Ta
 uranga\, Time: 1:00PM
SUMMARY:Auction for 
END:VEVENT
END:VCALENDAR
