BEGIN:VCALENDAR
VERSION:2.0
PRODID:icalendar-ruby
CALSCALE:GREGORIAN
BEGIN:VEVENT
DTSTAMP:20260421T163622Z
UID:8002462f-7205-406d-8b7f-a47708ca3f84
DTSTART;VALUE=DATE:20201022
DESCRIPTION:Property ID# 491081\, Locatoin: Harcourts Auction Room\, 1 Thir
 d Avenue\, Tauranga\, Time: 1:30PM
SUMMARY:Auction for 
END:VEVENT
END:VCALENDAR
