BEGIN:VCALENDAR
VERSION:2.0
PRODID:icalendar-ruby
CALSCALE:GREGORIAN
BEGIN:VEVENT
DTSTAMP:20260421T195330Z
UID:b1ef46fa-2090-42a1-981e-9afbdeef09de
DTSTART;VALUE=DATE:20201210
DESCRIPTION:Property ID# 496121\, Locatoin: Harcourts\, 1 Third Avenue\, Ta
 uranga\, Time: 1:30PM
SUMMARY:Auction for 
END:VEVENT
END:VCALENDAR
