BEGIN:VCALENDAR
VERSION:2.0
PRODID:icalendar-ruby
CALSCALE:GREGORIAN
BEGIN:VEVENT
DTSTAMP:20260423T092001Z
UID:01366647-e455-4e71-a995-66443192ebc7
DTSTART;VALUE=DATE:20210225
DESCRIPTION:Property ID# 500802\, Locatoin: Harcourts\, 1 Third Avenue\, Ta
 uranga\, Time: 1:00PM
SUMMARY:Auction for 
END:VEVENT
END:VCALENDAR
