BEGIN:VCALENDAR
VERSION:2.0
PRODID:icalendar-ruby
CALSCALE:GREGORIAN
BEGIN:VEVENT
DTSTAMP:20260421T195258Z
UID:9bf7ee6b-4c07-4a2a-a102-34cf0c028a1a
DTSTART;VALUE=DATE:20210415
DESCRIPTION:Property ID# 505764\, Locatoin: Harcourts\, 1 Third Avenue\, Ta
 uranga\, Time: 1:30PM
SUMMARY:Auction for 
END:VEVENT
END:VCALENDAR
