BEGIN:VCALENDAR
VERSION:2.0
PRODID:icalendar-ruby
CALSCALE:GREGORIAN
BEGIN:VEVENT
DTSTAMP:20260421T195607Z
UID:6bf5365b-eff5-44e2-a127-61fc5f222a92
DTSTART;VALUE=DATE:20210421
DESCRIPTION:Property ID# 506931\, Locatoin: Harcourts\, 1 Third Avenue\, Ta
 uranga\, Time: 4:30PM
SUMMARY:Auction for 
END:VEVENT
END:VCALENDAR
