BEGIN:VCALENDAR
VERSION:2.0
PRODID:icalendar-ruby
CALSCALE:GREGORIAN
BEGIN:VEVENT
DTSTAMP:20260425T103516Z
UID:43d16ca2-e45f-4f25-9da3-afa207adecb4
DTSTART;VALUE=DATE:20210617
DESCRIPTION:Property ID# 510673\, Locatoin: Harcourts\, 1 Third Avenue\, Ta
 uranga\, Time: 1:30PM
SUMMARY:Auction for 
END:VEVENT
END:VCALENDAR
