BEGIN:VCALENDAR
VERSION:2.0
PRODID:icalendar-ruby
CALSCALE:GREGORIAN
BEGIN:VEVENT
DTSTAMP:20260421T195005Z
UID:50c7634f-1d6b-4b1c-8ce9-9c3fb82af6eb
DTSTART;VALUE=DATE:20211021
DESCRIPTION:Property ID# 517717\, Locatoin: Harcourts Auction Room\, 1 Thir
 d Avenue\, Tauranga\, Time: 12:30PM
SUMMARY:Auction for 
END:VEVENT
END:VCALENDAR
