BEGIN:VCALENDAR
VERSION:2.0
PRODID:icalendar-ruby
CALSCALE:GREGORIAN
BEGIN:VEVENT
DTSTAMP:20260421T163725Z
UID:72a4de4b-85e1-4b7a-9ef4-00a359ee167f
DTSTART;VALUE=DATE:20211104
DESCRIPTION:Property ID# 519013\, Locatoin: Harcourts\, 1 Third Avenue\, Ta
 uranga\, Time: 11:30AM
SUMMARY:Auction for 
END:VEVENT
END:VCALENDAR
