BEGIN:VCALENDAR
VERSION:2.0
PRODID:icalendar-ruby
CALSCALE:GREGORIAN
BEGIN:VEVENT
DTSTAMP:20260425T104130Z
UID:d9169eea-2ca2-4546-9f64-bccfe4795d8d
DTSTART;VALUE=DATE:20220428
DESCRIPTION:Property ID# 533379\, Locatoin: Harcourts Auction Room\, 1 Thir
 d Avenue\, Tauranga\, Time: 11:00AM
SUMMARY:Auction for 
END:VEVENT
END:VCALENDAR
