BEGIN:VCALENDAR
VERSION:2.0
PRODID:icalendar-ruby
CALSCALE:GREGORIAN
BEGIN:VEVENT
DTSTAMP:20260421T195241Z
UID:672b0062-b9ba-4d2d-bf1c-ebc1b231b5b8
DTSTART;VALUE=DATE:20230209
DESCRIPTION:Property ID# 549964\, Locatoin: Harcourts\, 1 Third Avenue\, Ta
 uranga\, Time: 11:00AM
SUMMARY:Auction for 
END:VEVENT
END:VCALENDAR
