BEGIN:VCALENDAR
VERSION:2.0
PRODID:icalendar-ruby
CALSCALE:GREGORIAN
BEGIN:VEVENT
DTSTAMP:20260421T194846Z
UID:8b9f11c6-f75f-4342-8b89-e36fd59491e9
DTSTART;VALUE=DATE:20231102
DESCRIPTION:Property ID# 563912\, Locatoin: Harcourts Auction Room\, 1 Thir
 d Avenue\, Tauranga\, Time: 11:30AM
SUMMARY:Auction for 
END:VEVENT
END:VCALENDAR
