BEGIN:VCALENDAR
VERSION:2.0
PRODID:icalendar-ruby
CALSCALE:GREGORIAN
BEGIN:VEVENT
DTSTAMP:20260421T164113Z
UID:645461d7-6924-40ee-b63a-e45ab5a10773
DTSTART;VALUE=DATE:20240308
DESCRIPTION:Property ID# 570774\, Locatoin:  Harcourts Auction Rooms\, 1 Th
 ird Avenue\, Tauranga\, Time: 4:30PM
SUMMARY:Auction for 
END:VEVENT
END:VCALENDAR
