BEGIN:VCALENDAR
VERSION:2.0
PRODID:icalendar-ruby
CALSCALE:GREGORIAN
BEGIN:VEVENT
DTSTAMP:20260421T163247Z
UID:464a58d6-a5a5-49bc-b2ff-5b57cd012180
DTSTART;VALUE=DATE:20240403
DESCRIPTION:Property ID# 571896\, Locatoin: Harcourts Auction Room\, 1 Thir
 d Avenue\, Tauranga\, Time: 11:30AM
SUMMARY:Auction for 
END:VEVENT
END:VCALENDAR
