BEGIN:VCALENDAR
VERSION:2.0
PRODID:icalendar-ruby
CALSCALE:GREGORIAN
BEGIN:VEVENT
DTSTAMP:20260421T131746Z
UID:6f01f39d-4b7d-4825-9562-0dbd2934d590
DTSTART;VALUE=DATE:20250305
DESCRIPTION:Property ID# 587409\, Locatoin:  Harcourts Auction Rooms\, 1 Th
 ird Avenue\, Tauranga\, Time: 11:30AM
SUMMARY:Auction for 
END:VEVENT
END:VCALENDAR
