BEGIN:VCALENDAR
VERSION:2.0
PRODID:icalendar-ruby
CALSCALE:GREGORIAN
BEGIN:VEVENT
DTSTAMP:20260421T163812Z
UID:15f04009-4475-4161-9418-624b9426100f
DTSTART;VALUE=DATE:20250604
DESCRIPTION:Property ID# 592856\, Time: 12:00PM
SUMMARY:Auction for 
END:VEVENT
END:VCALENDAR
