BEGIN:VCALENDAR
VERSION:2.0
PRODID:icalendar-ruby
CALSCALE:GREGORIAN
BEGIN:VEVENT
DTSTAMP:20260421T163328Z
UID:9cefe9f1-4474-436f-a1a0-cbd0ceee9176
DTSTART;VALUE=DATE:20251210
DESCRIPTION:Property ID# 600314\, Time: 11:30AM
SUMMARY:Auction for 
END:VEVENT
END:VCALENDAR
