BEGIN:VCALENDAR
VERSION:2.0
PRODID:icalendar-ruby
CALSCALE:GREGORIAN
BEGIN:VEVENT
DTSTAMP:20260423T081508Z
UID:0bc56dea-08e5-48ff-9829-ccb763ee0337
DTSTART;VALUE=DATE:20260311
DESCRIPTION:Property ID# 604023\, Locatoin: Harcourts Auction Rooms\, 1 Thi
 rd Avenue\, Tauranga\, Time: 11:30AM
SUMMARY:Auction for 
END:VEVENT
END:VCALENDAR
