BEGIN:VCALENDAR
VERSION:2.0
PRODID:icalendar-ruby
CALSCALE:GREGORIAN
BEGIN:VEVENT
DTSTAMP:20260421T163431Z
UID:4fc1a2ff-4801-40bd-b862-ecc0c9764e22
DTSTART;VALUE=DATE:20260401
DESCRIPTION:Property ID# 605313\, Locatoin: Harcourts Auction Room\, 1 Thir
 d Avenue\, Tauranga\, Time: 11:30AM
SUMMARY:Auction for 2/146 Spring Street
END:VEVENT
END:VCALENDAR
