BEGIN:VCALENDAR
VERSION:2.0
PRODID:icalendar-ruby
CALSCALE:GREGORIAN
BEGIN:VEVENT
DTSTAMP:20260421T164114Z
UID:c6b3af4e-112a-43fa-94d7-e4a48fdda831
DTSTART;VALUE=DATE:20260408
DESCRIPTION:Property ID# 605576\, Locatoin: Harcourts Auction Room\, 1 Thir
 d Avenue\, Tauranga\, Time: 11:30AM
SUMMARY:Auction for 
END:VEVENT
END:VCALENDAR
