BEGIN:VCALENDAR
VERSION:2.0
PRODID:icalendar-ruby
CALSCALE:GREGORIAN
BEGIN:VEVENT
DTSTAMP:20260421T194845Z
UID:2e67dab6-216d-45d1-981a-d5d48711a9d6
DTSTART;VALUE=DATE:20260422
DESCRIPTION:Property ID# 605850\, Locatoin: Harcourts Auction Rooms\, 1 Thi
 rd Avenue\, Tauranga\, Time: 11:30AM
SUMMARY:Auction for 24 Kanuka Place
END:VEVENT
END:VCALENDAR
