BEGIN:VCALENDAR
VERSION:2.0
PRODID:icalendar-ruby
CALSCALE:GREGORIAN
BEGIN:VEVENT
DTSTAMP:20260421T163741Z
UID:e3094158-4484-4810-8528-f67e1efe6628
DTSTART;VALUE=DATE:20260527
DESCRIPTION:Property ID# 605989\, Locatoin: Harcourts Auction Rooms\, 1 Thi
 rd Avenue\, Tauranga\, Time: 11:30AM
SUMMARY:Auction for 9 Ruahine Street
END:VEVENT
END:VCALENDAR
