BEGIN:VCALENDAR
VERSION:2.0
PRODID:icalendar-ruby
CALSCALE:GREGORIAN
BEGIN:VEVENT
DTSTAMP:20260419T143820Z
UID:a715639e-464d-4d8e-96a8-98f6962760e6
DTSTART;VALUE=DATE:20260507
DESCRIPTION:Property ID# 606686\, Time: 10:00AM
SUMMARY:Auction for 6 Marae Street
END:VEVENT
END:VCALENDAR
