BEGIN:VCALENDAR
VERSION:2.0
PRODID:icalendar-ruby
CALSCALE:GREGORIAN
BEGIN:VEVENT
DTSTAMP:20260421T102707Z
UID:06f5c4ef-1bed-4e32-99cb-ce8375ee5278
DTSTART;VALUE=DATE:20260506
DESCRIPTION:Property ID# 606817\, Locatoin: Harcourts Auction Rooms\, 1 Thi
 rd Avenue\, Tauranga\, Time: 11:30AM
SUMMARY:Auction for 4/146 Spring Street
END:VEVENT
END:VCALENDAR
